BEGIN:VCALENDAR
VERSION:2.0
PRODID:-//eventon.com NONSGML v1.0//EN
CALSCALE:GREGORIAN
METHOD:PUBLISH
BEGIN:VEVENT
UID:69e5b55a4d8ac
DTSTAMP:20260420T051050Z
DTSTART:20260413T151500Z
DTEND:20260413T163000Z
LOCATION:
SUMMARY:Hatha Yoga
DESCRIPTION:Yogahaltungen und Bewegungsabläufe bieten einen Ausgleich zu d
 en oft einseitigen Alltagshaltungen. Verspannungen werden gelöst \,  die M
 uskulatur gestärkt\,  das Körperbewusstsein belebt\,  Beweglichkeit aufge
 baut und erhalten. In Verbindung mit Atem- und Meditationsübungen fördern
  sie das körperliche und seelische Wohlbefinden\,  indem man innere Ruhe f
 indet und neue Kraft schöpft. Der Kurs ist[..]\nhttps://www.bildungscampus
 -tarp.de/events/hatha-yoga-5/
URL:https://www.bildungscampus-tarp.de/events/hatha-yoga-5/
END:VEVENT
END:VCALENDAR