BEGIN:VCALENDAR
VERSION:2.0
PRODID:-//eventon.com NONSGML v1.0//EN
CALSCALE:GREGORIAN
METHOD:PUBLISH
BEGIN:VEVENT
UID:69e5fa68bf78d
DTSTAMP:20260420T100528Z
DTSTART:20260427T140000Z
DTEND:20260427T160000Z
LOCATION:
SUMMARY:Lasercutter-Basics
DESCRIPTION:Hier lernt ihr die Grundlagen des Lasercuttings kennen - von Si
 cherheitsaspekten bis hin zu Materialien und Einstellungen. Gemeinsam entwe
 rft ihr eigene Motive und setzt diese in die Praxis um\,  indem ihr individ
 uelle Stempel gestaltet und herstellt. Dabei erlebt ihr\,  wie präzise und
  vielseitig das Arbeiten mit dem Lasercutter ist und[..]\nhttps://www.bildu
 ngscampus-tarp.de/events/lasercutter-basics-2/
URL:https://www.bildungscampus-tarp.de/events/lasercutter-basics-2/
END:VEVENT
END:VCALENDAR