BEGIN:VCALENDAR
VERSION:2.0
PRODID:-//eventon.com NONSGML v1.0//EN
CALSCALE:GREGORIAN
METHOD:PUBLISH
BEGIN:VEVENT
UID:69e9f5e34290b
DTSTAMP:20260423T103515Z
DTSTART:20260520T163000Z
DTEND:20260520T190000Z
LOCATION:
SUMMARY:Fit für Familie "Gefühle deines Kindes liebevoll begleiten"
DESCRIPTION:Am 20 Mai von 18:30 Uhr bis 21:00 Uhr in der Familienbildungsst
 ätte in Tarp\nhttps://www.bildungscampus-tarp.de/events/fit-fuer-familie-g
 efuehle-deines-kindes-liebevoll-begleiten/
URL:https://www.bildungscampus-tarp.de/events/fit-fuer-familie-gefuehle-deines-kindes-liebevoll-begleiten/
END:VEVENT
END:VCALENDAR