BEGIN:VCALENDAR
VERSION:2.0
PRODID:-//eventon.com NONSGML v1.0//EN
CALSCALE:GREGORIAN
METHOD:PUBLISH
BEGIN:VEVENT
UID:69e89d73183f0
DTSTAMP:20260422T100539Z
DTSTART:20260504T070000Z
DTEND:20260504T103000Z
LOCATION:
SUMMARY:Mein Handy oder Tablet mit KI
DESCRIPTION:Mein Handy oder Tablet mit KI Smartphones und Tablets können h
 eute weit mehr als nur telefonieren – besonders durch die Einbindung von 
 Künstlicher Intelligenz. In diesem Kurs zeigen wir Ihnen\,  wie KI im Allt
 ag unterstützt: beim Schreiben von Texten\,  beim Suchen\,  Vergleichen od
 er Einkaufen. Gemeinsam probieren wir praktische Anwendungen aus[..]\nhttps
 ://www.bildungscampus-tarp.de/events/mein-handy-oder-tablet-mit-ki/
URL:https://www.bildungscampus-tarp.de/events/mein-handy-oder-tablet-mit-ki/
END:VEVENT
END:VCALENDAR