BEGIN:VCALENDAR
VERSION:2.0
PRODID:-//eventon.com NONSGML v1.0//EN
CALSCALE:GREGORIAN
METHOD:PUBLISH
BEGIN:VEVENT
UID:69e9f594bed66
DTSTAMP:20260423T103356Z
DTSTART:20260902T133000Z
DTEND:20260902T153000Z
LOCATION:
SUMMARY:Spielmobil
DESCRIPTION:\nhttps://www.bildungscampus-tarp.de/events/spielmobil-39/
URL:https://www.bildungscampus-tarp.de/events/spielmobil-39/
END:VEVENT
END:VCALENDAR