BEGIN:VCALENDAR
VERSION:2.0
PRODID:-//eventon.com NONSGML v1.0//EN
CALSCALE:GREGORIAN
METHOD:PUBLISH
BEGIN:VEVENT
UID:69e5f7389dbd7
DTSTAMP:20260420T095152Z
DTSTART:20260819T133000Z
DTEND:20260819T153000Z
LOCATION:
SUMMARY:Spielmobil
DESCRIPTION:\nhttps://www.bildungscampus-tarp.de/events/spielmobil-37/
URL:https://www.bildungscampus-tarp.de/events/spielmobil-37/
END:VEVENT
END:VCALENDAR