BEGIN:VCALENDAR
VERSION:2.0
PRODID:-//eventon.com NONSGML v1.0//EN
CALSCALE:GREGORIAN
METHOD:PUBLISH
BEGIN:VEVENT
UID:69e4e8d41946e
DTSTAMP:20260419T143812Z
DTSTART:20260119T173000Z
DTEND:20260119T190000Z
LOCATION:
SUMMARY:Englisch A2 / B1
DESCRIPTION:Sprechen ist das Schwierigste in einer Fremdsprache. Deshalb Ã¼
 ben wir. GesprÃ¤che zu bestimmten Themen\,  die mal einfacher und manchmal 
 schwieriger sind. Aber wie auch immerâ€“ wir haben dabei zusammen viel SpaÃ
 Ÿ. Talking is the morst difficult thing to do in another language. So we pr
 actice. Conversations on special topics sometimes[..]\nhttps://www.bildungs
 campus-tarp.de/events/__trashed/
URL:https://www.bildungscampus-tarp.de/events/__trashed/
END:VEVENT
END:VCALENDAR