BEGIN:VCALENDAR
VERSION:2.0
PRODID:-//eventon.com NONSGML v1.0//EN
CALSCALE:GREGORIAN
METHOD:PUBLISH
BEGIN:VEVENT
UID:69e4e3b44b506
DTSTAMP:20260419T141620Z
DTSTART:20250130T180000Z
DTEND:20250130T200000Z
LOCATION:
SUMMARY:Lesung von Eckhart Gutschmidt
DESCRIPTION:Lesung von Eckhart Gutschmidt\nhttps://www.bildungscampus-tarp.
 de/events/lesung-von-eckhart-gutschmidt/
URL:https://www.bildungscampus-tarp.de/events/lesung-von-eckhart-gutschmidt/
END:VEVENT
END:VCALENDAR